BEGIN:VCALENDAR
VERSION:2.0
PRODID:-//Tarih Vakfı - ECPv6.15.20//NONSGML v1.0//EN
CALSCALE:GREGORIAN
METHOD:PUBLISH
X-WR-CALNAME:Tarih Vakfı
X-ORIGINAL-URL:https://tarihvakfi.org.tr
X-WR-CALDESC:Tarih Vakfı için etkinlikler
REFRESH-INTERVAL;VALUE=DURATION:PT1H
X-Robots-Tag:noindex
X-PUBLISHED-TTL:PT1H
BEGIN:VTIMEZONE
TZID:Europe/Istanbul
BEGIN:STANDARD
TZOFFSETFROM:+0300
TZOFFSETTO:+0300
TZNAME:+03
DTSTART:20250101T000000
END:STANDARD
END:VTIMEZONE
BEGIN:VEVENT
DTSTART;TZID=Europe/Istanbul:20260426T140000
DTEND;TZID=Europe/Istanbul:20260426T170000
DTSTAMP:20260420T214521
CREATED:20260420T073753Z
LAST-MODIFIED:20260420T073753Z
UID:37526-1777212000-1777222800@tarihvakfi.org.tr
SUMMARY:Yerinde Tarih: Hakan Koçak ile Türkiye'de 1 Mayıslar
DESCRIPTION:Yerinde Tarih Seminerleri başlıyor! \nİstanbul’un Emek Belleğinin İzinde: Türkiye’de 1 Mayıslar \nHakan Koçak danışmanlığında Taksim bölgesinde 1 Mayıs’ın\, emeğin bayramının tarihini dinliyoruz. \n   \nİstanbul’un Emek Belleğinin İzinde: Türkiye’de 1 Mayıslar \nİstanbul tarih boyu emeğin kenti oldu. Emekçiler kentin mekanlarını hem kurdular hem de o mekanlarda izler bıraktılar. Otoriter piyasacı kentsel dönüşüm süreçleri bu izleri epeyce silikleştirse hatta yer yer yok etse de emek-bellek mekanlarını tanımak\, korumak\, temsil ettikleri değerleri sürdürmek için gerekli ve anlamlı. \nBu etkinliğimizde Türkiye işçi hareketinin kalbinin attığı Taksim bölgesinde dolaşacağız. Taksim 19. Yüzyıldan günümüze çok katmanlı bir emek-bellek mekânı. 1976 1 Mayıs kutlamaları bu ikonik meydanın tarihinde kapanmayan bir sayfa açmış olsa da emek hareketinin Taksim ve çevresi ile ilişkisi çok daha eski tarihlere de uzanıyor. \nEtkinliğimiz Taksim kortejlerinin denize doğru aktığı Dolmabahçe’den başlayacak. Orada bir dönem varolan gazhaneden kalanlara selam verip Gümüşsuyu boyunca yürüyerek Taksim’e çıkacağız. Meydanda anlatacağımız çok şey olacak her bir tarihsel katmanla ilgili. Gezi’den\, görkemli 1 Mayıs’lardan; 1960’ların anti-emperyalist gösterilerinden 1950’lerin ilk işçi mitingi denemelerine ve daha da eskilere\, Osmanlı’da ilk 1 Mayıs’lara… \nSonra Tophane’ye doğru ineceğiz. Birçok şeyin başladığı Tophane’ye… \nOsmanlı’da ilk sendikal deneyimlerin başladığı Tophane-i Amire tesisi\, Almanya’ya işçi göçünün başladığı İşçi Sigortaları Kurumu\, ilk otomobil fabrikası vb… \nGezi boyunca görülen emek-bellek mekanları hakkında bilgi verilecek\, bölgenin geçmişten bugüne tanık olduğu emek deneyimleri\, işçi hareketleri vb. ile ilgili örnekler aktarılacak. \nBaşlangıç niteliğindeki bu etkinliğin İstanbul’un emek belleğine katkı olması dileğiyle… \n\nHakan Koçak \nSosyolog\, emek tarihçisi\nM. Hakan Koçak 1970 doğumlu. Mimar Sinan Üniversitesi Sosyoloji Bölümü mezunu. Aynı bölümde yüksek lisans yaptı. Marmara Üniversitesi Çalışma Ekonomisi ve Endüstri İlişkileri Bölümü’ndeki doktorasını “Paşabahçe Semtinde İşçi Sınıfının Oluşumu\, Cam İşçi Hareketinin Gelişimi ve Yönelimleri” başlıklı tez çalışması ile 2009 yılında tamamladı. Petrol-İş\, DİSK\, Tez-Koop-İş gibi sendikalarda eğitim\, örgütlenme\, yayın faaliyetlerinde görev aldı. Tarih Vakfı’nda sözlü tarih araştırma projelerinde çalıştı.  Kocaeli Üniversitesi İİBF Çalışma Ekonomisi ve Endüstri İlişkileri Bölümü’nde öğretim üyesi olarak görev yapmaktayken 2016’da imzaladığı Barış Bildirisi nedeniyle görevinden ihraç edildi. Çalışmaları ağırlıkla emek tarihi\, kent ve mekân\, çalışma sosyolojisi\, Türkiye işçi hareketinin gelişme dinamikleri gibi konularda yoğunlaşmıştır. \n\n* Tarih & Saat: 26 Nisan 2026\, 14:00 \n* Buluşma noktası: Dolmabahçe Sarayı Saat Kulesi \n* Güzergâh: Dolmabahçe → Gümüşsuyu → Taksim Meydanı → Tophane \n* Kontenjan: 15 kişi \n* Ücret: 1500 TL (Fonzip üzerinden ödeme) \n* Kayıt Linki: https://fonzip.com/tarihvakfi/etkinlikler/yerinde-tarih-seminerleri-turkiyede-1-mayislar
URL:https://tarihvakfi.org.tr/etkinlikler/yerinde-tarih-hakan-kocak-ile-turkiyede-1-mayislar/
LOCATION:Dolmabahçe Sarayı
CATEGORIES:Yerinde Tarih
ATTACH;FMTTYPE=image/jpeg:https://tarihvakfi.org.tr/wp-content/uploads/2026/04/Yerinde_Tarih_1_Mayis-scaled.jpg
END:VEVENT
END:VCALENDAR