BEGIN:VCALENDAR
VERSION:2.0
PRODID:-//Tarih Vakfı - ECPv6.15.20//NONSGML v1.0//EN
CALSCALE:GREGORIAN
METHOD:PUBLISH
X-ORIGINAL-URL:https://tarihvakfi.org.tr
X-WR-CALDESC:Tarih Vakfı için etkinlikler
REFRESH-INTERVAL;VALUE=DURATION:PT1H
X-Robots-Tag:noindex
X-PUBLISHED-TTL:PT1H
BEGIN:VTIMEZONE
TZID:Europe/Istanbul
BEGIN:STANDARD
TZOFFSETFROM:+0300
TZOFFSETTO:+0300
TZNAME:+03
DTSTART:20250101T000000
END:STANDARD
END:VTIMEZONE
BEGIN:VEVENT
DTSTART;TZID=Europe/Istanbul:20260305T190000
DTEND;TZID=Europe/Istanbul:20260611T220000
DTSTAMP:20260424T110520
CREATED:20260222T110402Z
LAST-MODIFIED:20260304T064208Z
UID:36835-1772737200-1781215200@tarihvakfi.org.tr
SUMMARY:Çevrim İçi Orta Seviye Osmanlıca Seminerleri
DESCRIPTION:Çevrim İçi Orta Seviye Osmanlıca Seminerleri:\nYürütücü: Tuğçe Kancı Karagedikli\nSüre: 12 Hafta\nTarih: 5 Mart 2026 – 11 Haziran 2026\nPerşembe 19:00 – 22:00\nToplam Ücret: 8.000 TL\nKontenjan: 20\nÖğrencilere %50 İndirimli\nKontenjan: 5 (tarihvakfiankara@tarihvakfi.org.tr adresine e-posta ile başvurulması gerekmektedir) \nKayıt Linki: https://fonzip.com/tarihvakfi/etkinlikler/cevrim-ici-orta-seviye-osmanlica-seminerleri
URL:https://tarihvakfi.org.tr/etkinlikler/cevrim-ici-orta-seviye-osmanlica-seminerleri/
LOCATION:Çevrimiçi
CATEGORIES:Osmanlıca Seminerleri
ATTACH;FMTTYPE=image/jpeg:https://tarihvakfi.org.tr/wp-content/uploads/2026/02/3-1.jpeg
END:VEVENT
BEGIN:VEVENT
DTSTART;TZID=Europe/Istanbul:20260310T190000
DTEND;TZID=Europe/Istanbul:20260609T220000
DTSTAMP:20260424T110520
CREATED:20260222T110146Z
LAST-MODIFIED:20260222T110146Z
UID:36832-1773169200-1781042400@tarihvakfi.org.tr
SUMMARY:Çevrim İçi Temel Seviye Osmanlıca Seminerleri
DESCRIPTION:Yürütücü: Tuğçe Kancı Karagedikli\nSüre: 12 Hafta\nTarih: 10 Mart 2026 – 9 Haziran 2026\nSalı 19:00 – 22:00\nToplam Ücret: 8.000 TL\nKontenjan: 25\nÖğrencilere %50 İndirimli\nKontenjan: 5 (tarihvakfiankara@tarihvakfi.org.tr adresine e-posta ile başvurulması gerekmektedir) \nKayıt Linki: https://fonzip.com/tarihvakfi/etkinlikler/cevrim-ici-temel-seviye-osmanlica-seminerleri
URL:https://tarihvakfi.org.tr/etkinlikler/cevrim-ici-temel-seviye-osmanlica-seminerleri/
LOCATION:Çevrimiçi
CATEGORIES:Osmanlıca Seminerleri
ATTACH;FMTTYPE=image/jpeg:https://tarihvakfi.org.tr/wp-content/uploads/2026/02/2-1.jpeg
END:VEVENT
BEGIN:VEVENT
DTSTART;TZID=Europe/Istanbul:20260506T190000
DTEND;TZID=Europe/Istanbul:20260506T203000
DTSTAMP:20260424T110520
CREATED:20260420T072919Z
LAST-MODIFIED:20260420T073012Z
UID:37518-1778094000-1778099400@tarihvakfi.org.tr
SUMMARY:Dr. Mehmet Ali Neyzi  "Abdülhamid’in Sadrazamı Tunuslu Hayreddin Paşa"
DESCRIPTION:BİZİM TEPE TARİH SOHBETLERİ  \nDr. Mehmet Ali Neyzi \n“Abdülhamid’in Sadrazamı Tunuslu Hayreddin Paşa” \n 6 Mayıs 2026\, Çarşamba\nSaat: 19.00 \nTarih Vakfı ve Robert Kolej Mezunları Derneği iş birliğiyle düzenlenen Bizim Tepe Tarih Sohbetleri\, tarih yazımı ve güncel tartışmaları bir araya getiren kapsamlı bir konuşma serisidir. \nEtkinlik yemekli olarak gerçekleştirilecektir. \nKonuşmacılarımız programa gönüllülük esasıyla katkı sunmaktadır. \nYemekten elde edilen gelir\, Tarih Vakfı’nın çalışmalarını desteklemek amacıyla kullanılacaktır. \nDavetiye Bedeli: 4.000 TL\nKatılım için: https://fonzip.com/tarihvakfi/etkinlikler/bizim-tepe-tarih-sohbetleri-6-mayis-2026 \nAdres: Kuruçeşme Mahallesi\, Bizim Tepe Çıkmazı No: 2\, Ulus/ İstanbul
URL:https://tarihvakfi.org.tr/etkinlikler/neyzi-tunuslu-hayrettin/
LOCATION:Bizim Tepe\, Kuruçeşme Mahallesi\, Bizim Tepe Çıkmazı No:2\, Ulus\, İstanbul\, Turkey
CATEGORIES:Bizim Tepe Tarih Sohbetleri
ATTACH;FMTTYPE=image/jpeg:https://tarihvakfi.org.tr/wp-content/uploads/2026/04/BizimTepe_Mayis2026.jpg
END:VEVENT
BEGIN:VEVENT
DTSTART;TZID=Europe/Istanbul:20260515T090000
DTEND;TZID=Europe/Istanbul:20260516T170000
DTSTAMP:20260424T110520
CREATED:20260129T185550Z
LAST-MODIFIED:20260129T185608Z
UID:36364-1778835600-1778950800@tarihvakfi.org.tr
SUMMARY:Bilgi-Bonn Tarih Lisansüstü Öğrenci Konferansı
DESCRIPTION:İstanbul Bilgi Üniversitesi Tarih Bölümü öğrencileri ve Bonn Üniversitesi Bağımlılık ve Kölelik Çalışmaları  Merkezi iş birliğiyle\, Tarih Vakfı desteğiyle düzenlenen Tarih Lisansüstü Öğrenci Konferansı\, üçüncü kez İstanbul Bilgi Üniversitesi ev sahipliğinde lisansüstü araştırmacıları bir araya getiriyor. \nKonferans\, tarih ağırlıklı olmak üzere lisanüstü araştırmacıların\, araştırmalarını paylaşabilecekleri; farklı dönemler\, coğrafyalar ve yöntemler arasında diyalog\, etkileşim ve dayanışmayı güçlendirmeyi amaçlayan kolektif bir tartışma alanı sunmayı hedeflemektedir. \nÖnemli Tarihler \nÖzet gönderimi için son tarih: 16 Mart 2026\nKabul edilen özetlerin duyurulması: 1 Nisan 2026\nKonferans tarihleri: 15–16 Mayıs 2026 \nSorularınız için: historygraduateconference2026@bilgi.edu.tr
URL:https://tarihvakfi.org.tr/etkinlikler/bilgi-bonn-tarih-lisansustu-ogrenci-konferansi/
LOCATION:Santral İstanbul\, Emniyettepe\, Kazım Karabekir Cd. No: 2/13\, Eyüpsultan\, İstanbul\, 34060\, Turkey
CATEGORIES:Lisansüstü Konferansı
ATTACH;FMTTYPE=image/jpeg:https://tarihvakfi.org.tr/wp-content/uploads/2026/01/3.-Tarih-Lisansustu-Ogrenci-Konferansi-2026.jpeg
END:VEVENT
END:VCALENDAR